BEGIN:VCALENDAR
VERSION:2.0
PRODID:-//Mch - ECPv6.15.20//NONSGML v1.0//EN
CALSCALE:GREGORIAN
METHOD:PUBLISH
X-ORIGINAL-URL:https://www.mch.cl
X-WR-CALDESC:Eventos para Mch
REFRESH-INTERVAL;VALUE=DURATION:PT1H
X-Robots-Tag:noindex
X-PUBLISHED-TTL:PT1H
BEGIN:VTIMEZONE
TZID:America/Santiago
BEGIN:STANDARD
TZOFFSETFROM:-0300
TZOFFSETTO:-0400
TZNAME:-04
DTSTART:20240407T030000
END:STANDARD
BEGIN:DAYLIGHT
TZOFFSETFROM:-0400
TZOFFSETTO:-0300
TZNAME:-03
DTSTART:20240908T040000
END:DAYLIGHT
BEGIN:STANDARD
TZOFFSETFROM:-0300
TZOFFSETTO:-0400
TZNAME:-04
DTSTART:20250406T030000
END:STANDARD
BEGIN:DAYLIGHT
TZOFFSETFROM:-0400
TZOFFSETTO:-0300
TZNAME:-03
DTSTART:20250907T040000
END:DAYLIGHT
BEGIN:STANDARD
TZOFFSETFROM:-0300
TZOFFSETTO:-0400
TZNAME:-04
DTSTART:20260405T030000
END:STANDARD
BEGIN:DAYLIGHT
TZOFFSETFROM:-0400
TZOFFSETTO:-0300
TZNAME:-03
DTSTART:20260906T040000
END:DAYLIGHT
END:VTIMEZONE
BEGIN:VEVENT
DTSTART;VALUE=DATE:20250730
DTEND;VALUE=DATE:20250731
DTSTAMP:20260419T153942
CREATED:20260411T221901Z
LAST-MODIFIED:20260411T221901Z
UID:378868-1753833600-1753919999@www.mch.cl
SUMMARY:Proyectmin 2025
DESCRIPTION:
URL:https://www.mch.cl/evento/proyectmin-2025-3/
END:VEVENT
BEGIN:VEVENT
DTSTART;VALUE=DATE:20250730
DTEND;VALUE=DATE:20250731
DTSTAMP:20260419T153942
CREATED:20260411T221901Z
LAST-MODIFIED:20260411T221901Z
UID:378865-1753833600-1753919999@www.mch.cl
SUMMARY:Proyectmin 2025
DESCRIPTION:
URL:https://www.mch.cl/evento/proyectmin-2025-2/
END:VEVENT
BEGIN:VEVENT
DTSTART;VALUE=DATE:20250730
DTEND;VALUE=DATE:20250731
DTSTAMP:20260419T153942
CREATED:20250302T215922Z
LAST-MODIFIED:20250302T215922Z
UID:363620-1753833600-1753919999@www.mch.cl
SUMMARY:Proyectmin 2025
DESCRIPTION:
URL:https://www.mch.cl/evento/proyectmin-2025/
END:VEVENT
BEGIN:VEVENT
DTSTART;TZID=America/Santiago:20250422T000000
DTEND;TZID=America/Santiago:20250425T220000
DTSTAMP:20260419T153942
CREATED:20260411T221900Z
LAST-MODIFIED:20260411T221900Z
UID:378861-1745280000-1745618400@www.mch.cl
SUMMARY:Expomin 2025
DESCRIPTION:
URL:https://www.mch.cl/evento/expomin-2025-3/
LOCATION:Espacio Riesco\, Santiago\, Chile
END:VEVENT
BEGIN:VEVENT
DTSTART;TZID=America/Santiago:20250422T000000
DTEND;TZID=America/Santiago:20250425T220000
DTSTAMP:20260419T153942
CREATED:20260411T221900Z
LAST-MODIFIED:20260411T221900Z
UID:378857-1745280000-1745618400@www.mch.cl
SUMMARY:Expomin 2025
DESCRIPTION:
URL:https://www.mch.cl/evento/expomin-2025-2/
LOCATION:Espacio Riesco\, Santiago\, Chile
END:VEVENT
BEGIN:VEVENT
DTSTART;TZID=America/Santiago:20250422T000000
DTEND;TZID=America/Santiago:20250425T220000
DTSTAMP:20260419T153942
CREATED:20250302T195548Z
LAST-MODIFIED:20250302T195717Z
UID:363610-1745280000-1745618400@www.mch.cl
SUMMARY:Expomin 2025
DESCRIPTION:
URL:https://www.mch.cl/evento/expomin-2025/
LOCATION:Espacio Riesco\, Santiago\, Chile
END:VEVENT
BEGIN:VEVENT
DTSTART;VALUE=DATE:20250315
DTEND;VALUE=DATE:20250317
DTSTAMP:20260419T153942
CREATED:20260411T221901Z
LAST-MODIFIED:20260411T221901Z
UID:378867-1741996800-1742169599@www.mch.cl
SUMMARY:DesalinizaciÃ³n AmÃ©rica Latina
DESCRIPTION:
URL:https://www.mch.cl/evento/desalinizacion-america-latina-2/
END:VEVENT
BEGIN:VEVENT
DTSTART;VALUE=DATE:20250315
DTEND;VALUE=DATE:20250317
DTSTAMP:20260419T153942
CREATED:20260411T221901Z
LAST-MODIFIED:20260411T221901Z
UID:378870-1741996800-1742169599@www.mch.cl
SUMMARY:DesalinizaciÃ³n AmÃ©rica Latina
DESCRIPTION:
URL:https://www.mch.cl/evento/desalinizacion-america-latina-3/
END:VEVENT
BEGIN:VEVENT
DTSTART;VALUE=DATE:20250315
DTEND;VALUE=DATE:20250317
DTSTAMP:20260419T153942
CREATED:20250302T220347Z
LAST-MODIFIED:20250302T220347Z
UID:363624-1741996800-1742169599@www.mch.cl
SUMMARY:Desalinización América Latina
DESCRIPTION:
URL:https://www.mch.cl/evento/desalinizacion-america-latina/
END:VEVENT
BEGIN:VEVENT
DTSTART;TZID=America/Santiago:20250228T080000
DTEND;TZID=America/Santiago:20250305T170000
DTSTAMP:20260419T153942
CREATED:20260411T221901Z
LAST-MODIFIED:20260411T221901Z
UID:378864-1740729600-1741194000@www.mch.cl
SUMMARY:PDAC 2025
DESCRIPTION:
URL:https://www.mch.cl/evento/pdac-2025-3/
LOCATION:PDAC\, Toronto\, Canada
END:VEVENT
BEGIN:VEVENT
DTSTART;TZID=America/Santiago:20250228T080000
DTEND;TZID=America/Santiago:20250305T170000
DTSTAMP:20260419T153942
CREATED:20260411T221900Z
LAST-MODIFIED:20260411T221900Z
UID:378862-1740729600-1741194000@www.mch.cl
SUMMARY:PDAC 2025
DESCRIPTION:
URL:https://www.mch.cl/evento/pdac-2025-2/
LOCATION:PDAC\, Toronto\, Canada
END:VEVENT
BEGIN:VEVENT
DTSTART;TZID=America/Santiago:20250228T080000
DTEND;TZID=America/Santiago:20250305T170000
DTSTAMP:20260419T153942
CREATED:20250302T195927Z
LAST-MODIFIED:20250302T195927Z
UID:363614-1740729600-1741194000@www.mch.cl
SUMMARY:PDAC 2025
DESCRIPTION:
URL:https://www.mch.cl/evento/pdac-2025/
LOCATION:PDAC\, Toronto\, Canada
END:VEVENT
END:VCALENDAR